BEGIN:VCALENDAR
VERSION:2.0
PRODID:-//Safe Harbor - ECPv6.15.20//NONSGML v1.0//EN
CALSCALE:GREGORIAN
METHOD:PUBLISH
X-WR-CALNAME:Safe Harbor
X-ORIGINAL-URL:https://safeharborcenterinc.org
X-WR-CALDESC:Events for Safe Harbor
REFRESH-INTERVAL;VALUE=DURATION:PT1H
X-Robots-Tag:noindex
X-PUBLISHED-TTL:PT1H
BEGIN:VTIMEZONE
TZID:America/New_York
BEGIN:DAYLIGHT
TZOFFSETFROM:-0500
TZOFFSETTO:-0400
TZNAME:EDT
DTSTART:20250309T070000
END:DAYLIGHT
BEGIN:STANDARD
TZOFFSETFROM:-0400
TZOFFSETTO:-0500
TZNAME:EST
DTSTART:20251102T060000
END:STANDARD
BEGIN:DAYLIGHT
TZOFFSETFROM:-0500
TZOFFSETTO:-0400
TZNAME:EDT
DTSTART:20260308T070000
END:DAYLIGHT
BEGIN:STANDARD
TZOFFSETFROM:-0400
TZOFFSETTO:-0500
TZNAME:EST
DTSTART:20261101T060000
END:STANDARD
BEGIN:DAYLIGHT
TZOFFSETFROM:-0500
TZOFFSETTO:-0400
TZNAME:EDT
DTSTART:20270314T070000
END:DAYLIGHT
BEGIN:STANDARD
TZOFFSETFROM:-0400
TZOFFSETTO:-0500
TZNAME:EST
DTSTART:20271107T060000
END:STANDARD
END:VTIMEZONE
BEGIN:VEVENT
DTSTART;TZID=America/New_York:20260304T180000
DTEND;TZID=America/New_York:20260304T210000
DTSTAMP:20260422T014014
CREATED:20260226T195610Z
LAST-MODIFIED:20260226T215500Z
UID:6286-1772647200-1772658000@safeharborcenterinc.org
SUMMARY:Chefs for Kids: Pro Am Open Fire Competition
DESCRIPTION:
URL:https://safeharborcenterinc.org/calendar/chefs-for-kids/
LOCATION:Village Creek Landing
ATTACH;FMTTYPE=image/jpeg:https://safeharborcenterinc.org/wp-content/uploads/2026/02/Chef-For-Kids-FlyerPoster-wqr-code-2-scaled.jpg
END:VEVENT
BEGIN:VEVENT
DTSTART;TZID=America/New_York:20260307T080000
DTEND;TZID=America/New_York:20260308T170000
DTSTAMP:20260422T014014
CREATED:20260226T220959Z
LAST-MODIFIED:20260227T180027Z
UID:6301-1772870400-1772989200@safeharborcenterinc.org
SUMMARY:Golden Isles Spring Classic Pickleball Tournament Benefitting Safe Harbor Center\, Champions Hernan & Victoria Stutzer
DESCRIPTION:
URL:https://safeharborcenterinc.org/calendar/pickleball/
LOCATION:North Glynn Recreation Complex\, 622 Harry Driggers Blvd\, Brunswick\, GA\, 31525\, United States
ATTACH;FMTTYPE=image/jpeg:https://safeharborcenterinc.org/wp-content/uploads/2026/02/IMG_1112.jpeg
END:VEVENT
BEGIN:VEVENT
DTSTART;TZID=America/New_York:20260317T120000
DTEND;TZID=America/New_York:20260317T180000
DTSTAMP:20260422T014014
CREATED:20260227T181402Z
LAST-MODIFIED:20260227T181402Z
UID:6324-1773748800-1773770400@safeharborcenterinc.org
SUMMARY:Duke of Edinburgh Cup Qualifying Event
DESCRIPTION:
URL:https://safeharborcenterinc.org/calendar/doe/
LOCATION:Frederica Golf Club\, 100 Pike's Bluff Drive\, St. Simons\, GA\, 31522\, United States
ATTACH;FMTTYPE=image/jpeg:https://safeharborcenterinc.org/wp-content/uploads/2026/02/03B_2972.jpg
END:VEVENT
BEGIN:VEVENT
DTSTART;TZID=America/New_York:20260319T083000
DTEND;TZID=America/New_York:20260319T120000
DTSTAMP:20260422T014014
CREATED:20260313T200004Z
LAST-MODIFIED:20260319T193330Z
UID:6442-1773909000-1773921600@safeharborcenterinc.org
SUMMARY:Brian Corry's Champions for Children Bracket Challenge
DESCRIPTION:
URL:https://safeharborcenterinc.org/calendar/bracket/
ATTACH;FMTTYPE=image/jpeg:https://safeharborcenterinc.org/wp-content/uploads/2026/03/BC-Champions-Bracket-Challenge-.jpg
END:VEVENT
BEGIN:VEVENT
DTSTART;TZID=America/New_York:20260321T140000
DTEND;TZID=America/New_York:20260321T160000
DTSTAMP:20260422T014014
CREATED:20260316T164338Z
LAST-MODIFIED:20260316T185609Z
UID:6449-1774101600-1774108800@safeharborcenterinc.org
SUMMARY:Basketball & Brews at Barrier Island Brewery with Champion Brian Corry
DESCRIPTION:
URL:https://safeharborcenterinc.org/calendar/basketball/
LOCATION:Barrier Island Brewery\, 1226 Ocean Blvd\, St. Simons Island\, GA\, 31522\, United States
ATTACH;FMTTYPE=image/jpeg:https://safeharborcenterinc.org/wp-content/uploads/2026/03/BC-Champions-BIB-poster-1.jpg
END:VEVENT
BEGIN:VEVENT
DTSTART;TZID=America/New_York:20260321T180000
DTEND;TZID=America/New_York:20260321T210000
DTSTAMP:20260422T014014
CREATED:20260318T180444Z
LAST-MODIFIED:20260320T011046Z
UID:6484-1774116000-1774126800@safeharborcenterinc.org
SUMMARY:Gowen Family Band at Uptown Tap & Cigar
DESCRIPTION:
URL:https://safeharborcenterinc.org/calendar/uptown/
LOCATION:Uptown Tap and Cigar\, 253 Redfern Village\, St. Simons Island\, GA\, 31522\, United States
ATTACH;FMTTYPE=image/png:https://safeharborcenterinc.org/wp-content/uploads/2026/03/cf9e2e53-ac90-4173-8346-654b4667daeb.png
END:VEVENT
BEGIN:VEVENT
DTSTART;TZID=America/New_York:20260322T160000
DTEND;TZID=America/New_York:20260322T180000
DTSTAMP:20260422T014014
CREATED:20260303T170307Z
LAST-MODIFIED:20260303T170307Z
UID:6357-1774195200-1774202400@safeharborcenterinc.org
SUMMARY:C4C Jonathan and Ally Haney's Mahjong Event
DESCRIPTION:
URL:https://safeharborcenterinc.org/calendar/c4c-jonathan-and-ally-haneys-mahjong-event/
LOCATION:Dorothy’s Cocktail & Oyster Bar\, 12 Market St\, St Simons Island\, GA\, 31522\, United States
ATTACH;FMTTYPE=image/png:https://safeharborcenterinc.org/wp-content/uploads/2026/03/Mahjong-Graphic-1.png
END:VEVENT
BEGIN:VEVENT
DTSTART;TZID=America/New_York:20260329T123000
DTEND;TZID=America/New_York:20260329T160000
DTSTAMP:20260422T014014
CREATED:20260305T170802Z
LAST-MODIFIED:20260305T190844Z
UID:6379-1774787400-1774800000@safeharborcenterinc.org
SUMMARY:Bippity Boppity Bash with Pirates of the Spanish Main
DESCRIPTION:
URL:https://safeharborcenterinc.org/calendar/princess/
ATTACH;FMTTYPE=image/jpeg:https://safeharborcenterinc.org/wp-content/uploads/2026/03/IMG_9125.jpeg
END:VEVENT
BEGIN:VEVENT
DTSTART;TZID=America/New_York:20260329T170000
DTEND;TZID=America/New_York:20260329T190000
DTSTAMP:20260422T014014
CREATED:20260309T192517Z
LAST-MODIFIED:20260309T192617Z
UID:6391-1774803600-1774810800@safeharborcenterinc.org
SUMMARY:Champion Latricia Hogan: Boots on the Ground for Safe Harbor Line Dancing
DESCRIPTION:
URL:https://safeharborcenterinc.org/calendar/boots/
LOCATION:Ziggy’s\, 210 Retreat Village\, St. Simons Island\, GA\, 31522\, United States
ATTACH;FMTTYPE=image/png:https://safeharborcenterinc.org/wp-content/uploads/2026/03/Boots-on-the-Ground-PNG.png
END:VEVENT
END:VCALENDAR