BEGIN:VCALENDAR
VERSION:2.0
PRODID:-//Safe Harbor - ECPv6.15.20//NONSGML v1.0//EN
CALSCALE:GREGORIAN
METHOD:PUBLISH
X-ORIGINAL-URL:https://safeharborcenterinc.org
X-WR-CALDESC:Events for Safe Harbor
REFRESH-INTERVAL;VALUE=DURATION:PT1H
X-Robots-Tag:noindex
X-PUBLISHED-TTL:PT1H
BEGIN:VTIMEZONE
TZID:America/New_York
BEGIN:DAYLIGHT
TZOFFSETFROM:-0500
TZOFFSETTO:-0400
TZNAME:EDT
DTSTART:20220313T070000
END:DAYLIGHT
BEGIN:STANDARD
TZOFFSETFROM:-0400
TZOFFSETTO:-0500
TZNAME:EST
DTSTART:20221106T060000
END:STANDARD
BEGIN:DAYLIGHT
TZOFFSETFROM:-0500
TZOFFSETTO:-0400
TZNAME:EDT
DTSTART:20230312T070000
END:DAYLIGHT
BEGIN:STANDARD
TZOFFSETFROM:-0400
TZOFFSETTO:-0500
TZNAME:EST
DTSTART:20231105T060000
END:STANDARD
BEGIN:DAYLIGHT
TZOFFSETFROM:-0500
TZOFFSETTO:-0400
TZNAME:EDT
DTSTART:20240310T070000
END:DAYLIGHT
BEGIN:STANDARD
TZOFFSETFROM:-0400
TZOFFSETTO:-0500
TZNAME:EST
DTSTART:20241103T060000
END:STANDARD
END:VTIMEZONE
BEGIN:VEVENT
DTSTART;TZID=America/New_York:20230322T103000
DTEND;TZID=America/New_York:20230322T120000
DTSTAMP:20260422T114519
CREATED:20230209T135309Z
LAST-MODIFIED:20230209T135309Z
UID:2875-1679481000-1679486400@safeharborcenterinc.org
SUMMARY:Homeless Coalition of Glynn County
DESCRIPTION:
URL:https://safeharborcenterinc.org/calendar/homeless-coalition-of-glynn-county/
LOCATION:UGA Marine Extension and Georgia Sea Grant\, 715 Bay Street\, Brunswick\, GA\, 31520
ORGANIZER;CN="Safe Harbor Center - Street Beat Program":MAILTO:tlangley@safeharborcenterinc.org
END:VEVENT
END:VCALENDAR