BEGIN:VCALENDAR
VERSION:2.0
PRODID:-//Safe Harbor - ECPv6.15.20//NONSGML v1.0//EN
CALSCALE:GREGORIAN
METHOD:PUBLISH
X-WR-CALNAME:Safe Harbor
X-ORIGINAL-URL:https://safeharborcenterinc.org
X-WR-CALDESC:Events for Safe Harbor
REFRESH-INTERVAL;VALUE=DURATION:PT1H
X-Robots-Tag:noindex
X-PUBLISHED-TTL:PT1H
BEGIN:VTIMEZONE
TZID:America/New_York
BEGIN:DAYLIGHT
TZOFFSETFROM:-0500
TZOFFSETTO:-0400
TZNAME:EDT
DTSTART:20220313T070000
END:DAYLIGHT
BEGIN:STANDARD
TZOFFSETFROM:-0400
TZOFFSETTO:-0500
TZNAME:EST
DTSTART:20221106T060000
END:STANDARD
BEGIN:DAYLIGHT
TZOFFSETFROM:-0500
TZOFFSETTO:-0400
TZNAME:EDT
DTSTART:20230312T070000
END:DAYLIGHT
BEGIN:STANDARD
TZOFFSETFROM:-0400
TZOFFSETTO:-0500
TZNAME:EST
DTSTART:20231105T060000
END:STANDARD
BEGIN:DAYLIGHT
TZOFFSETFROM:-0500
TZOFFSETTO:-0400
TZNAME:EDT
DTSTART:20240310T070000
END:DAYLIGHT
BEGIN:STANDARD
TZOFFSETFROM:-0400
TZOFFSETTO:-0500
TZNAME:EST
DTSTART:20241103T060000
END:STANDARD
END:VTIMEZONE
BEGIN:VEVENT
DTSTART;TZID=America/New_York:20230205T140000
DTEND;TZID=America/New_York:20230205T160000
DTSTAMP:20260422T131746
CREATED:20221116T122324Z
LAST-MODIFIED:20221116T122324Z
UID:2780-1675605600-1675612800@safeharborcenterinc.org
SUMMARY:Designer Handbag Bingo and Silent Auction
DESCRIPTION:On Sunday\, February 5\, 2023\, women throughout Coastal Georgia will gather for an afternoon of fun\, laughter\, bingo\, and a chance to win fabulous designer handbags at the second annual Designer Handbag Bingo & Silent Auction benefiting Safe Harbor Children’s Center. The event will take place from 2:00-4:00 p.m. at the Frederica Golf Club. Tickets are $85 per person\, and include two bingo cards\, light hors d’oeuvres\, complimentary wine and beverages. \nEVENT DETAILS \nDATE\nSunday\, February 5\, 2023 \nTIME\n2:00 PM – 4:00 PM \nLOCATION\n100 Pikes Bluff Drive\nSt. Simons Island\, GA 31522 \nTICKET INFORMATION\n$85 per ticket\n$600 per table (8 guests) \nTickets include: \n\ntwo bingo cards\nlight hors d’oeuvres\ncomplimentary wine and beverages\ncomplimentary valet service\n\nFor more information\, please contact Michelle Fasig at 912-267-6000.
URL:https://safeharborcenterinc.org/calendar/designer-handbag-bingo-and-silent-auction/
LOCATION:Frederica Golf Club\, 100 Pike's Bluff Drive\, St. Simons\, GA\, 31522\, United States
ORGANIZER;CN="Keith Fenton":MAILTO:kfenton@safeharborcenterinc.org
END:VEVENT
END:VCALENDAR