BEGIN:VCALENDAR
VERSION:2.0
PRODID:-//Safe Harbor - ECPv6.15.20//NONSGML v1.0//EN
CALSCALE:GREGORIAN
METHOD:PUBLISH
X-ORIGINAL-URL:https://safeharborcenterinc.org
X-WR-CALDESC:Events for Safe Harbor
REFRESH-INTERVAL;VALUE=DURATION:PT1H
X-Robots-Tag:noindex
X-PUBLISHED-TTL:PT1H
BEGIN:VTIMEZONE
TZID:America/New_York
BEGIN:DAYLIGHT
TZOFFSETFROM:-0500
TZOFFSETTO:-0400
TZNAME:EDT
DTSTART:20250309T070000
END:DAYLIGHT
BEGIN:STANDARD
TZOFFSETFROM:-0400
TZOFFSETTO:-0500
TZNAME:EST
DTSTART:20251102T060000
END:STANDARD
BEGIN:DAYLIGHT
TZOFFSETFROM:-0500
TZOFFSETTO:-0400
TZNAME:EDT
DTSTART:20260308T070000
END:DAYLIGHT
BEGIN:STANDARD
TZOFFSETFROM:-0400
TZOFFSETTO:-0500
TZNAME:EST
DTSTART:20261101T060000
END:STANDARD
BEGIN:DAYLIGHT
TZOFFSETFROM:-0500
TZOFFSETTO:-0400
TZNAME:EDT
DTSTART:20270314T070000
END:DAYLIGHT
BEGIN:STANDARD
TZOFFSETFROM:-0400
TZOFFSETTO:-0500
TZNAME:EST
DTSTART:20271107T060000
END:STANDARD
END:VTIMEZONE
BEGIN:VEVENT
DTSTART;TZID=America/New_York:20260422T200000
DTEND;TZID=America/New_York:20260430T235900
DTSTAMP:20260420T212311
CREATED:20260318T154730Z
LAST-MODIFIED:20260420T185249Z
UID:6480-1776888000-1777593540@safeharborcenterinc.org
SUMMARY:Calendar Raffle
DESCRIPTION:Calendar Raffle – Full Calendar Raffle Flyer
URL:https://safeharborcenterinc.org/calendar/april/
LOCATION:GA
ATTACH;FMTTYPE=image/jpeg:https://safeharborcenterinc.org/wp-content/uploads/2026/03/Calendar-Raffle-Flyer.jpg
END:VEVENT
BEGIN:VEVENT
DTSTART;TZID=America/New_York:20260424T183000
DTEND;TZID=America/New_York:20260424T203000
DTSTAMP:20260420T212311
CREATED:20260419T014900Z
LAST-MODIFIED:20260419T014937Z
UID:6704-1777055400-1777062600@safeharborcenterinc.org
SUMMARY:April 24th Violectric Event
DESCRIPTION:
URL:https://safeharborcenterinc.org/calendar/music/
LOCATION:GA
ATTACH;FMTTYPE=image/jpeg:https://safeharborcenterinc.org/wp-content/uploads/2026/03/Cream-Brown-Vintage-Wedding-Invitation.jpg
END:VEVENT
END:VCALENDAR