BEGIN:VCALENDAR
VERSION:2.0
PRODID:-//Safe Harbor - ECPv6.15.20//NONSGML v1.0//EN
CALSCALE:GREGORIAN
METHOD:PUBLISH
X-ORIGINAL-URL:https://safeharborcenterinc.org
X-WR-CALDESC:Events for Safe Harbor
REFRESH-INTERVAL;VALUE=DURATION:PT1H
X-Robots-Tag:noindex
X-PUBLISHED-TTL:PT1H
BEGIN:VTIMEZONE
TZID:America/New_York
BEGIN:DAYLIGHT
TZOFFSETFROM:-0500
TZOFFSETTO:-0400
TZNAME:EDT
DTSTART:20250309T070000
END:DAYLIGHT
BEGIN:STANDARD
TZOFFSETFROM:-0400
TZOFFSETTO:-0500
TZNAME:EST
DTSTART:20251102T060000
END:STANDARD
BEGIN:DAYLIGHT
TZOFFSETFROM:-0500
TZOFFSETTO:-0400
TZNAME:EDT
DTSTART:20260308T070000
END:DAYLIGHT
BEGIN:STANDARD
TZOFFSETFROM:-0400
TZOFFSETTO:-0500
TZNAME:EST
DTSTART:20261101T060000
END:STANDARD
BEGIN:DAYLIGHT
TZOFFSETFROM:-0500
TZOFFSETTO:-0400
TZNAME:EDT
DTSTART:20270314T070000
END:DAYLIGHT
BEGIN:STANDARD
TZOFFSETFROM:-0400
TZOFFSETTO:-0500
TZNAME:EST
DTSTART:20271107T060000
END:STANDARD
END:VTIMEZONE
BEGIN:VEVENT
DTSTART;TZID=America/New_York:20260420T160000
DTEND;TZID=America/New_York:20260420T190000
DTSTAMP:20260422T065204
CREATED:20260407T134636Z
LAST-MODIFIED:20260407T134657Z
UID:6593-1776700800-1776711600@safeharborcenterinc.org
SUMMARY:Drive for Safe Harbor & Putt for Dough
DESCRIPTION:
URL:https://safeharborcenterinc.org/calendar/putt/
ATTACH;FMTTYPE=image/png:https://safeharborcenterinc.org/wp-content/uploads/2026/04/IMG_1702.png
END:VEVENT
BEGIN:VEVENT
DTSTART;TZID=America/New_York:20260422T173000
DTEND;TZID=America/New_York:20260422T203000
DTSTAMP:20260422T065204
CREATED:20260319T201934Z
LAST-MODIFIED:20260319T201945Z
UID:6491-1776879000-1776889800@safeharborcenterinc.org
SUMMARY:Champions for Children Culmination 2026
DESCRIPTION:
URL:https://safeharborcenterinc.org/calendar/champions-for-children-culmination-2026/
LOCATION:Frederica Golf Club\, 100 Pike's Bluff Drive\, St. Simons\, GA\, 31522\, United States
ATTACH;FMTTYPE=image/jpeg:https://safeharborcenterinc.org/wp-content/uploads/2026/03/Save-the-date-scaled.jpg
END:VEVENT
BEGIN:VEVENT
DTSTART;TZID=America/New_York:20260422T190000
DTEND;TZID=America/New_York:20260422T190000
DTSTAMP:20260422T065204
CREATED:20260316T190834Z
LAST-MODIFIED:20260420T185432Z
UID:6470-1776884400-1776884400@safeharborcenterinc.org
SUMMARY:Low Country Boil Private Dinner
DESCRIPTION:
URL:https://safeharborcenterinc.org/calendar/kp/
ATTACH;FMTTYPE=image/png:https://safeharborcenterinc.org/wp-content/uploads/2026/03/KP-Champion-LCB-Flyer-No-QR-scaled.png
END:VEVENT
BEGIN:VEVENT
DTSTART;TZID=America/New_York:20260422T200000
DTEND;TZID=America/New_York:20260422T235900
DTSTAMP:20260422T065204
CREATED:20260401T212248Z
LAST-MODIFIED:20260420T184755Z
UID:6562-1776888000-1776902340@safeharborcenterinc.org
SUMMARY:Basket Raffle Contest with Champion Alisha Wiggins
DESCRIPTION:
URL:https://safeharborcenterinc.org/calendar/basket-2/
ATTACH;FMTTYPE=image/png:https://safeharborcenterinc.org/wp-content/uploads/2026/03/2.png
END:VEVENT
BEGIN:VEVENT
DTSTART;TZID=America/New_York:20260422T200000
DTEND;TZID=America/New_York:20260422T235900
DTSTAMP:20260422T065204
CREATED:20260403T185743Z
LAST-MODIFIED:20260420T184952Z
UID:6587-1776888000-1776902340@safeharborcenterinc.org
SUMMARY:Mother's Day Raffle | Champion for Children Amanda Duffey
DESCRIPTION:
URL:https://safeharborcenterinc.org/calendar/mother/
ATTACH;FMTTYPE=image/png:https://safeharborcenterinc.org/wp-content/uploads/2026/04/Winner-Drawn-April-23-1.png
END:VEVENT
BEGIN:VEVENT
DTSTART;TZID=America/New_York:20260422T200000
DTEND;TZID=America/New_York:20260430T235900
DTSTAMP:20260422T065204
CREATED:20260318T154730Z
LAST-MODIFIED:20260420T185249Z
UID:6480-1776888000-1777593540@safeharborcenterinc.org
SUMMARY:Calendar Raffle
DESCRIPTION:Calendar Raffle – Full Calendar Raffle Flyer
URL:https://safeharborcenterinc.org/calendar/april/
ATTACH;FMTTYPE=image/jpeg:https://safeharborcenterinc.org/wp-content/uploads/2026/03/Calendar-Raffle-Flyer.jpg
END:VEVENT
BEGIN:VEVENT
DTSTART;TZID=America/New_York:20260424T183000
DTEND;TZID=America/New_York:20260424T203000
DTSTAMP:20260422T065204
CREATED:20260419T014900Z
LAST-MODIFIED:20260419T014937Z
UID:6704-1777055400-1777062600@safeharborcenterinc.org
SUMMARY:April 24th Violectric Event
DESCRIPTION:
URL:https://safeharborcenterinc.org/calendar/music/
ATTACH;FMTTYPE=image/jpeg:https://safeharborcenterinc.org/wp-content/uploads/2026/03/Cream-Brown-Vintage-Wedding-Invitation.jpg
END:VEVENT
END:VCALENDAR