BEGIN:VCALENDAR
VERSION:2.0
PRODID:-//Safe Harbor - ECPv6.15.20//NONSGML v1.0//EN
CALSCALE:GREGORIAN
METHOD:PUBLISH
X-WR-CALNAME:Safe Harbor
X-ORIGINAL-URL:https://safeharborcenterinc.org
X-WR-CALDESC:Events for Safe Harbor
REFRESH-INTERVAL;VALUE=DURATION:PT1H
X-Robots-Tag:noindex
X-PUBLISHED-TTL:PT1H
BEGIN:VTIMEZONE
TZID:America/New_York
BEGIN:DAYLIGHT
TZOFFSETFROM:-0500
TZOFFSETTO:-0400
TZNAME:EDT
DTSTART:20190310T070000
END:DAYLIGHT
BEGIN:STANDARD
TZOFFSETFROM:-0400
TZOFFSETTO:-0500
TZNAME:EST
DTSTART:20191103T060000
END:STANDARD
BEGIN:DAYLIGHT
TZOFFSETFROM:-0500
TZOFFSETTO:-0400
TZNAME:EDT
DTSTART:20200308T070000
END:DAYLIGHT
BEGIN:STANDARD
TZOFFSETFROM:-0400
TZOFFSETTO:-0500
TZNAME:EST
DTSTART:20201101T060000
END:STANDARD
BEGIN:DAYLIGHT
TZOFFSETFROM:-0500
TZOFFSETTO:-0400
TZNAME:EDT
DTSTART:20210314T070000
END:DAYLIGHT
BEGIN:STANDARD
TZOFFSETFROM:-0400
TZOFFSETTO:-0500
TZNAME:EST
DTSTART:20211107T060000
END:STANDARD
BEGIN:DAYLIGHT
TZOFFSETFROM:-0500
TZOFFSETTO:-0400
TZNAME:EDT
DTSTART:20220313T070000
END:DAYLIGHT
BEGIN:STANDARD
TZOFFSETFROM:-0400
TZOFFSETTO:-0500
TZNAME:EST
DTSTART:20221106T060000
END:STANDARD
BEGIN:DAYLIGHT
TZOFFSETFROM:-0500
TZOFFSETTO:-0400
TZNAME:EDT
DTSTART:20230312T070000
END:DAYLIGHT
BEGIN:STANDARD
TZOFFSETFROM:-0400
TZOFFSETTO:-0500
TZNAME:EST
DTSTART:20231105T060000
END:STANDARD
END:VTIMEZONE
BEGIN:VEVENT
DTSTART;TZID=America/New_York:20221202T170000
DTEND;TZID=America/New_York:20221202T200000
DTSTAMP:20260422T180134
CREATED:20221116T134730Z
LAST-MODIFIED:20221116T140930Z
UID:2795-1670000400-1670011200@safeharborcenterinc.org
SUMMARY:First Friday
DESCRIPTION:Join Safe Harbor and the community on Newcastle Street from 5:00 PM – 8:00 PM on the First Friday of each month for live music from the Brunswick Music District\, local shopping\, and great food.
URL:https://safeharborcenterinc.org/calendar/first-friday/
LOCATION:Historic Downtown Brunswick\, 1435 Newcastle St\, Brunswick\, Georgia\, 31520
ORGANIZER;CN="Keith Fenton":MAILTO:kfenton@safeharborcenterinc.org
END:VEVENT
BEGIN:VEVENT
DTSTART;TZID=America/New_York:20220921T120000
DTEND;TZID=America/New_York:20220921T133000
DTSTAMP:20260422T180134
CREATED:20220919T150755Z
LAST-MODIFIED:20220919T150952Z
UID:2711-1663761600-1663767000@safeharborcenterinc.org
SUMMARY:Marketing and Communications Committee
DESCRIPTION:
URL:https://safeharborcenterinc.org/calendar/marketing-and-communications-committee/
LOCATION:Safe Harbor Children’s Center\, 1526 Norwich Street\, Brunswick\, GA\, 31520\, United States
ORGANIZER;CN="Keith Fenton":MAILTO:kfenton@safeharborcenterinc.org
END:VEVENT
BEGIN:VEVENT
DTSTART;TZID=America/New_York:20210116T120000
DTEND;TZID=America/New_York:20210116T180000
DTSTAMP:20260422T180134
CREATED:20201125T153327Z
LAST-MODIFIED:20201125T153327Z
UID:1355-1610798400-1610820000@safeharborcenterinc.org
SUMMARY:Shop & Share at The Cloister Collection
DESCRIPTION:15% of all sales benefit Safe Harbor Center
URL:https://safeharborcenterinc.org/calendar/shop-share-at-the-cloister-collection/
LOCATION:Cloister Collection\, 600 Sea Island Rd\, Suite 13\, Saint Simons Island\, Georgia\, 31522
END:VEVENT
BEGIN:VEVENT
DTSTART;TZID=America/New_York:20210113T110000
DTEND;TZID=America/New_York:20210113T140000
DTSTAMP:20260422T180134
CREATED:20210107T211334Z
LAST-MODIFIED:20210107T211334Z
UID:1458-1610535600-1610546400@safeharborcenterinc.org
SUMMARY:OPEN HOUSE:  Liberty and Bryan County Street Outreach Center
DESCRIPTION:Meet with community stakeholders in Liberty & Bryan counties to continue building relationships focused on serving displaced families.
URL:https://safeharborcenterinc.org/calendar/open-house-liberty-and-bryan-county-street-outreach-center/
LOCATION:319 General Screven Way\, Hinesville\, GA 31313\, 319 General Screven Way\, Hinesville\, GA\, 3
END:VEVENT
BEGIN:VEVENT
DTSTART;VALUE=DATE:20201126
DTEND;VALUE=DATE:20201127
DTSTAMP:20260422T180134
CREATED:20201123T162140Z
LAST-MODIFIED:20201123T162140Z
UID:1294-1606348800-1606435199@safeharborcenterinc.org
SUMMARY:Thanksgiving Day!
DESCRIPTION:
URL:https://safeharborcenterinc.org/calendar/thanksgiving-day/
END:VEVENT
BEGIN:VEVENT
DTSTART;VALUE=DATE:20201123
DTEND;VALUE=DATE:20201124
DTSTAMP:20260422T180134
CREATED:20201123T162443Z
LAST-MODIFIED:20201123T162526Z
UID:1296-1606089600-1606175999@safeharborcenterinc.org
SUMMARY:Food Distribution - Thanksgiving Surprise To Families
DESCRIPTION:
URL:https://safeharborcenterinc.org/calendar/food-distribution-thanksgiving-surprise-to-families/
END:VEVENT
END:VCALENDAR